BEGIN:VCALENDAR
VERSION:2.0
PRODID:-//State Independent Living Council - ECPv6.15.17//NONSGML v1.0//EN
CALSCALE:GREGORIAN
METHOD:PUBLISH
X-WR-CALNAME:State Independent Living Council
X-ORIGINAL-URL:https://silc.idaho.gov
X-WR-CALDESC:Events for State Independent Living Council
REFRESH-INTERVAL;VALUE=DURATION:PT1H
X-Robots-Tag:noindex
X-PUBLISHED-TTL:PT1H
BEGIN:VTIMEZONE
TZID:America/Boise
BEGIN:DAYLIGHT
TZOFFSETFROM:-0700
TZOFFSETTO:-0600
TZNAME:MDT
DTSTART:20200308T090000
END:DAYLIGHT
BEGIN:STANDARD
TZOFFSETFROM:-0600
TZOFFSETTO:-0700
TZNAME:MST
DTSTART:20201101T080000
END:STANDARD
BEGIN:DAYLIGHT
TZOFFSETFROM:-0700
TZOFFSETTO:-0600
TZNAME:MDT
DTSTART:20210314T090000
END:DAYLIGHT
BEGIN:STANDARD
TZOFFSETFROM:-0600
TZOFFSETTO:-0700
TZNAME:MST
DTSTART:20211107T080000
END:STANDARD
BEGIN:DAYLIGHT
TZOFFSETFROM:-0700
TZOFFSETTO:-0600
TZNAME:MDT
DTSTART:20220313T090000
END:DAYLIGHT
BEGIN:STANDARD
TZOFFSETFROM:-0600
TZOFFSETTO:-0700
TZNAME:MST
DTSTART:20221106T080000
END:STANDARD
END:VTIMEZONE
BEGIN:VEVENT
DTSTART;TZID=America/Boise:20211001T090000
DTEND;TZID=America/Boise:20211001T100000
DTSTAMP:20260425T075219
CREATED:20210609T222055Z
LAST-MODIFIED:20210827T170503Z
UID:5508-1633078800-1633082400@silc.idaho.gov
SUMMARY:Inclusive Vaccine Partnership
DESCRIPTION:The Inclusive Vaccine Partnership brings together partner agencies and organizations to discuss vaccine issues affecting Idahoans.  \nStanding Agenda \nInclusive Vaccine Partnership \nMeets Bi-Weekly Friday Mornings \n9:00 – 10:00 a.m. MDT\, 8:00 – 9:00 PDT \nStanding Agenda \n(captioning provided) \nJoin Zoom Meeting \nhttps://us02web.zoom.us/j/84799759738?pwd=a1hCTkNIc3c5VnFSdElncVAyaS81dz09 \nMeeting ID: 847 9975 9738 \nPasscode: 474551 \nOne tap mobile \n+16699006833\,\,84799759738#\,\,\,\,*474551# US (San Jose) \n+12532158782\,\,84799759738#\,\,\,\,*474551# US (Tacoma) \nDial by your location \n        +1 669 900 6833 US (San Jose) \n        +1 253 215 8782 US (Tacoma) \n        +1 346 248 7799 US (Houston) \n        +1 929 205 6099 US (New York) \n        +1 301 715 8592 US (Washington DC) \n        +1 312 626 6799 US (Chicago) \nMeeting ID: 847 9975 9738 \nPasscode: 474551 \nFind your local number: https://us02web.zoom.us/u/kgrnUfTes \nYou will be placed in a waiting room until the meeting moderator admits you to the Zoom Room ____________________________________________________________________ \n\nWelcome\, brief explanation of meeting format\, housekeeping (5) – Please put your name\, organization you represent\, area served and location in the chat\nNew or previously identified concerns/barriers – Discussion (20)\nNext Partnership locations (15)\nOther upcoming vaccine/community events: (10)\nRegional Discussions – Next project(s)\, opportunities or other activities. (10)\n\nNext Meeting – Friday\, 9:00 – 10:00 a.m.\, MDT\, 8:00 – 9:00 a.m. PDT \nExtended through November 12\, 2021
URL:https://silc.idaho.gov/event/inclusive-vaccine-partnership-2021-10-01/
CATEGORIES:General Event
END:VEVENT
BEGIN:VEVENT
DTSTART;TZID=America/Boise:20211015T090000
DTEND;TZID=America/Boise:20211015T100000
DTSTAMP:20260425T075219
CREATED:20210609T222055Z
LAST-MODIFIED:20210827T170503Z
UID:5509-1634288400-1634292000@silc.idaho.gov
SUMMARY:Inclusive Vaccine Partnership
DESCRIPTION:The Inclusive Vaccine Partnership brings together partner agencies and organizations to discuss vaccine issues affecting Idahoans.  \nStanding Agenda \nInclusive Vaccine Partnership \nMeets Bi-Weekly Friday Mornings \n9:00 – 10:00 a.m. MDT\, 8:00 – 9:00 PDT \nStanding Agenda \n(captioning provided) \nJoin Zoom Meeting \nhttps://us02web.zoom.us/j/84799759738?pwd=a1hCTkNIc3c5VnFSdElncVAyaS81dz09 \nMeeting ID: 847 9975 9738 \nPasscode: 474551 \nOne tap mobile \n+16699006833\,\,84799759738#\,\,\,\,*474551# US (San Jose) \n+12532158782\,\,84799759738#\,\,\,\,*474551# US (Tacoma) \nDial by your location \n        +1 669 900 6833 US (San Jose) \n        +1 253 215 8782 US (Tacoma) \n        +1 346 248 7799 US (Houston) \n        +1 929 205 6099 US (New York) \n        +1 301 715 8592 US (Washington DC) \n        +1 312 626 6799 US (Chicago) \nMeeting ID: 847 9975 9738 \nPasscode: 474551 \nFind your local number: https://us02web.zoom.us/u/kgrnUfTes \nYou will be placed in a waiting room until the meeting moderator admits you to the Zoom Room ____________________________________________________________________ \n\nWelcome\, brief explanation of meeting format\, housekeeping (5) – Please put your name\, organization you represent\, area served and location in the chat\nNew or previously identified concerns/barriers – Discussion (20)\nNext Partnership locations (15)\nOther upcoming vaccine/community events: (10)\nRegional Discussions – Next project(s)\, opportunities or other activities. (10)\n\nNext Meeting – Friday\, 9:00 – 10:00 a.m.\, MDT\, 8:00 – 9:00 a.m. PDT \nExtended through November 12\, 2021
URL:https://silc.idaho.gov/event/inclusive-vaccine-partnership-2021-10-15/
CATEGORIES:General Event
END:VEVENT
BEGIN:VEVENT
DTSTART;TZID=America/Boise:20211029T090000
DTEND;TZID=America/Boise:20211029T100000
DTSTAMP:20260425T075219
CREATED:20210609T222055Z
LAST-MODIFIED:20210827T170504Z
UID:5682-1635498000-1635501600@silc.idaho.gov
SUMMARY:Inclusive Vaccine Partnership
DESCRIPTION:The Inclusive Vaccine Partnership brings together partner agencies and organizations to discuss vaccine issues affecting Idahoans.  \nStanding Agenda \nInclusive Vaccine Partnership \nMeets Bi-Weekly Friday Mornings \n9:00 – 10:00 a.m. MDT\, 8:00 – 9:00 PDT \nStanding Agenda \n(captioning provided) \nJoin Zoom Meeting \nhttps://us02web.zoom.us/j/84799759738?pwd=a1hCTkNIc3c5VnFSdElncVAyaS81dz09 \nMeeting ID: 847 9975 9738 \nPasscode: 474551 \nOne tap mobile \n+16699006833\,\,84799759738#\,\,\,\,*474551# US (San Jose) \n+12532158782\,\,84799759738#\,\,\,\,*474551# US (Tacoma) \nDial by your location \n        +1 669 900 6833 US (San Jose) \n        +1 253 215 8782 US (Tacoma) \n        +1 346 248 7799 US (Houston) \n        +1 929 205 6099 US (New York) \n        +1 301 715 8592 US (Washington DC) \n        +1 312 626 6799 US (Chicago) \nMeeting ID: 847 9975 9738 \nPasscode: 474551 \nFind your local number: https://us02web.zoom.us/u/kgrnUfTes \nYou will be placed in a waiting room until the meeting moderator admits you to the Zoom Room ____________________________________________________________________ \n\nWelcome\, brief explanation of meeting format\, housekeeping (5) – Please put your name\, organization you represent\, area served and location in the chat\nNew or previously identified concerns/barriers – Discussion (20)\nNext Partnership locations (15)\nOther upcoming vaccine/community events: (10)\nRegional Discussions – Next project(s)\, opportunities or other activities. (10)\n\nNext Meeting – Friday\, 9:00 – 10:00 a.m.\, MDT\, 8:00 – 9:00 a.m. PDT \nExtended through November 12\, 2021
URL:https://silc.idaho.gov/event/inclusive-vaccine-partnership-2021-10-29/
CATEGORIES:General Event
END:VEVENT
END:VCALENDAR