BEGIN:VCALENDAR
VERSION:2.0
PRODID:-//State Independent Living Council - ECPv6.15.17//NONSGML v1.0//EN
CALSCALE:GREGORIAN
METHOD:PUBLISH
X-WR-CALNAME:State Independent Living Council
X-ORIGINAL-URL:https://silc.idaho.gov
X-WR-CALDESC:Events for State Independent Living Council
REFRESH-INTERVAL;VALUE=DURATION:PT1H
X-Robots-Tag:noindex
X-PUBLISHED-TTL:PT1H
BEGIN:VTIMEZONE
TZID:America/Boise
BEGIN:DAYLIGHT
TZOFFSETFROM:-0700
TZOFFSETTO:-0600
TZNAME:MDT
DTSTART:20240310T090000
END:DAYLIGHT
BEGIN:STANDARD
TZOFFSETFROM:-0600
TZOFFSETTO:-0700
TZNAME:MST
DTSTART:20241103T080000
END:STANDARD
BEGIN:DAYLIGHT
TZOFFSETFROM:-0700
TZOFFSETTO:-0600
TZNAME:MDT
DTSTART:20250309T090000
END:DAYLIGHT
BEGIN:STANDARD
TZOFFSETFROM:-0600
TZOFFSETTO:-0700
TZNAME:MST
DTSTART:20251102T080000
END:STANDARD
BEGIN:DAYLIGHT
TZOFFSETFROM:-0700
TZOFFSETTO:-0600
TZNAME:MDT
DTSTART:20260308T090000
END:DAYLIGHT
BEGIN:STANDARD
TZOFFSETFROM:-0600
TZOFFSETTO:-0700
TZNAME:MST
DTSTART:20261101T080000
END:STANDARD
BEGIN:DAYLIGHT
TZOFFSETFROM:-0700
TZOFFSETTO:-0600
TZNAME:MDT
DTSTART:20270314T090000
END:DAYLIGHT
BEGIN:STANDARD
TZOFFSETFROM:-0600
TZOFFSETTO:-0700
TZNAME:MST
DTSTART:20271107T080000
END:STANDARD
END:VTIMEZONE
BEGIN:VEVENT
DTSTART;TZID=America/Boise:20260417T090000
DTEND;TZID=America/Boise:20260417T163000
DTSTAMP:20260423T234052
CREATED:20260126T155521Z
LAST-MODIFIED:20260126T165023Z
UID:12616-1776416400-1776443400@silc.idaho.gov
SUMMARY:SILC Council Meeting - Day 2
DESCRIPTION:NOTICE OF \nMEETING \nThursday & Friday\nApril 16 & 17\, 2026\n9:00 A.M. – 4:30 P.M. Mountain Time (8:00 a.m. to 3:30 p.m. Pacific Time) \nState Independent Living Council (SILC)\nSILC Council Meeting\nMeeting is In-person \nPhysical Location:\nHoliday Inn Express and Suites Boise Airport\n3050 S. Shoshone\, Boise\, ID 83705 \n\nContact Janey Bruesch for more information:\n208-334-3800 \nIf you need accommodations including ASL or an alternative format\, please contact the SILC at least 14 days in advance.
URL:https://silc.idaho.gov/event/silc-council-meeting-day-2/
END:VEVENT
BEGIN:VEVENT
DTSTART;TZID=America/Boise:20260416T090000
DTEND;TZID=America/Boise:20260416T163000
DTSTAMP:20260423T234052
CREATED:20260126T155444Z
LAST-MODIFIED:20260126T164839Z
UID:12614-1776330000-1776357000@silc.idaho.gov
SUMMARY:SILC Council Meeting - Day 1
DESCRIPTION:NOTICE OF MEETING \nThursday & Friday\nApril 16 & 17\, 2026\n9:00 A.M. – 4:30 P.M. Mountain Time (8:00 a.m. to 3:30 p.m. Pacific Time) \nState Independent Living Council (SILC)\nSILC Council Meeting\nMeeting is In-person \nPhysical Location:\nHoliday Inn Express and Suites Boise Airport\n3050 S. Shoshone\, Boise\, ID 83705 \n\nContact Janey Bruesch for more information:\n208-334-3800 \nIf you need accommodations including ASL or an alternative format\, please contact the SILC at least 14 days in advance.
URL:https://silc.idaho.gov/event/silc-council-meeting-day-1/
END:VEVENT
BEGIN:VEVENT
DTSTART;TZID=America/Boise:20260414T130000
DTEND;TZID=America/Boise:20260414T140000
DTSTAMP:20260423T234052
CREATED:20260126T154818Z
LAST-MODIFIED:20260317T152637Z
UID:12604-1776171600-1776175200@silc.idaho.gov
SUMMARY:SILC Policy Committee Meeting - Cancelled
DESCRIPTION:NOTICE OF MEETING \nMeeting on April 14\, 2026 has been cancelled. \nSecond Tuesday of each month\n1:00 p.m. – 2:00 p.m. Mountain Time\n(12:00 p.m. to 1:00 p.m. Pacific Time)\nZOOM Meeting \nState Independent Living Council (SILC)\nSILC Policy Committee Meeting \nYou must register in advance for this meeting:\nhttps://us02web.zoom.us/meeting/register/haXGgdVWQVuXLv5-K0X2xg \nAfter registering\, you will receive a confirmation email containing information about joining the meeting. \nContact Janey Bruesch for more information:\n208-334-3800 \nIf you need accommodations\, including ASL or an alternate format\, please notify SILC at least 14 days in advance. \n  \n  \nSILC Policy Committee\nStanding Agenda\nSecond Tuesday of each Month\n1:00 p.m. – 2:00 p.m. Mountain Time\n12:00 p.m. – 1:00 p.m. Pacific Time\nZoom Meeting \n\nAgenda \n1. Welcome and Introductions \n\n2. Ongoing Policy work \n\n3. Other items \n\n4. Adjourn
URL:https://silc.idaho.gov/event/silc-policy-committee-meeting-7/
END:VEVENT
BEGIN:VEVENT
DTSTART;TZID=America/Boise:20260401T133000
DTEND;TZID=America/Boise:20260401T143000
DTSTAMP:20260423T234052
CREATED:20260219T170019Z
LAST-MODIFIED:20260219T172658Z
UID:12610-1775050200-1775053800@silc.idaho.gov
SUMMARY:SILC Planning Committee Meeting
DESCRIPTION:NOTICE OF MEETING \nWednesday\, April 1\, 2026\n1:30 p.m. – 2:30 p.m. Mountain Time\n(12:30 p.m. – 1:30 p.m. Pacific Time)\nZOOM Meeting \nState Independent Living Council (SILC)\nSILC Planning Committee Meeting \nYou must register in advance for this meeting. You must register at least 1 hour before the meeting begins to attend the meeting. \nhttps://us02web.zoom.us/meeting/register/Wy-nA8VTTfiXFvDNh2r0vg \nAfter registering\, you will receive a confirmation email containing information about joining the meeting. \nContact Janey Bruesch for more information:  208-334-3800 \nIf you need accommodations\, including ASL or an alternate format\, please notify SILC at least 14 days in advance. \n  \n\nSILC Planning Committee Standing Agenda\n1:30 – 2:30 p.m. Mountain Time\n12:30 – 1:30 p.m. Pacific Time\nZoom Meeting \nAgenda \n1. Welcome and Introductions \n2. Approve minutes from last meeting \n3. Quarterly Survey workgroup – updates and discussion \n4. Statewide Assessment workgroup – updates and discussion \n5. Determine dates for future meetings \n6. Adjourn
URL:https://silc.idaho.gov/event/silc-planning-committee-meeting-4/
END:VEVENT
BEGIN:VEVENT
DTSTART;TZID=America/Boise:20260327T120000
DTEND;TZID=America/Boise:20260327T133000
DTSTAMP:20260423T234052
CREATED:20260126T155230Z
LAST-MODIFIED:20260323T175339Z
UID:12612-1774612800-1774618200@silc.idaho.gov
SUMMARY:SILC Executive Committee Meeting
DESCRIPTION:NOTICE OF MEETING \nFRIDAY \nMarch 27\, 2026\n12:00 P.M. – 1:30 P.M. Mountain Time (11:00 a.m. to 12:30 p.m. Pacific Time)\nZOOM MEETING \nYou must register at least 1 hour before the meeting starts to attend this meeting.\nhttps://us02web.zoom.us/meeting/register/3pt-48CCRxOQ-4FNVMlrMQ \nState Independent Living Council (SILC)\nSILC Executive Committee Meeting \nContact Janey Bruesch for more information:\n208-334-3800 \nIf you need accommodations\, including ASL or an alternate format\, please notify SILC at least 14 days in advance \nAgenda
URL:https://silc.idaho.gov/event/silc-executive-committee-meeting/
END:VEVENT
BEGIN:VEVENT
DTSTART;TZID=America/Boise:20260325T110000
DTEND;TZID=America/Boise:20260325T120000
DTSTAMP:20260423T234052
CREATED:20250627T205745Z
LAST-MODIFIED:20260203T163447Z
UID:12278-1774436400-1774440000@silc.idaho.gov
SUMMARY:SILC Membership & Outreach Committee Meeting
DESCRIPTION:SILC Membership and Outreach Committee\nStanding Agenda\n11:00 a.m. – 12:00 p.m. Mountain Time\n10:00 a.m. – 11:00 a.m. Pacific Time\nZoom Meeting \n  \nStanding Agenda\n1. Welcome and Introductions\n2. Open Positions (identified in State plan) \n\nRegion II\nRegion III\nRegion IV\nRegion VI\nRegion VII\nAt Large\n\n3. Review applications for upcoming and/or current positions open\n4. Outreach\n5. Tentative Meeting dates going forward: \n\nJune 24\, 2026\nSeptember 23\, 2026\n\n6. Other Business\n7. Adjourn
URL:https://silc.idaho.gov/event/silc-membership-outreach-committee-meeting-2/
END:VEVENT
BEGIN:VEVENT
DTSTART;TZID=America/Boise:20260310T130000
DTEND;TZID=America/Boise:20260310T140000
DTSTAMP:20260423T234052
CREATED:20260126T154726Z
LAST-MODIFIED:20260126T160811Z
UID:12602-1773147600-1773151200@silc.idaho.gov
SUMMARY:SILC Policy Committee Meeting
DESCRIPTION:NOTICE OF MEETING \nSecond Tuesday of each month\n1:00 p.m. – 2:00 p.m. Mountain Time \n(12:00 p.m. to 1:00 p.m. Pacific Time)\nZOOM Meeting \nState Independent Living Council (SILC)\nSILC Policy Committee Meeting \nYou must register in advance for this meeting:\nhttps://us02web.zoom.us/meeting/register/haXGgdVWQVuXLv5-K0X2xg \nAfter registering\, you will receive a confirmation email containing information about joining the meeting. \nContact Janey Bruesch for more information:\n208-334-3800 \nIf you need accommodations\, including ASL or an alternate format\, please notify SILC at least 14 days in advance. \n  \nSILC Policy Committee\nStanding Agenda\nSecond Tuesday of each Month\n1:00 p.m. – 2:00 p.m. Mountain Time\n12:00 p.m. – 1:00 p.m. Pacific Time\nZoom Meeting \n\nAgenda \n1. Welcome and Introductions \n\n2. Ongoing Policy work \n\n3. Other items \n\n4. Adjourn
URL:https://silc.idaho.gov/event/silc-policy-committee-meeting-6/
END:VEVENT
BEGIN:VEVENT
DTSTART;TZID=America/Boise:20260218T133000
DTEND;TZID=America/Boise:20260218T143000
DTSTAMP:20260423T234052
CREATED:20260126T154925Z
LAST-MODIFIED:20260126T162902Z
UID:12606-1771421400-1771425000@silc.idaho.gov
SUMMARY:SILC Planning Committee Meeting
DESCRIPTION:NOTICE OF MEETING \nThird Wednesday of Each Month\n1:30 p.m. – 2:30 p.m. Mountain Time \n(12:30 p.m. – 1:30 p.m. Pacific Time)\nZOOM Meeting \nState Independent Living Council (SILC)\nSILC Planning Committee Meeting \nYou must register in advance for this meeting. You must register at least 1 hour before the meeting begins to attend the meeting. \nhttps://us02web.zoom.us/meeting/register/Wy-nA8VTTfiXFvDNh2r0vg \nAfter registering\, you will receive a confirmation email containing information about joining the meeting. \nContact Janey Bruesch for more information:  208-334-3800 \nIf you need accommodations\, including ASL or an alternate format\, please notify SILC at least 14 days in advance. \n  \nSILC Planning Committee Standing Agenda\n1:30 – 2:30 p.m. Mountain Time\n12:30 – 1:30 p.m. Pacific Time\nThird Wednesday of Each Month\nZoom Meeting \nAgenda \n1. Welcome and Introductions \n2. Approve minutes from last meeting \n3. Quarterly Survey workgroup – updates and discussion \n4. Statewide Assessment workgroup – updates and discussion \n5. Determine dates for future meetings \n6. Adjourn
URL:https://silc.idaho.gov/event/silc-planning-committee-meeting-2/
END:VEVENT
BEGIN:VEVENT
DTSTART;VALUE=DATE:20260216
DTEND;VALUE=DATE:20260217
DTSTAMP:20260423T234052
CREATED:20201215T155744Z
LAST-MODIFIED:20250918T175840Z
UID:4359-1771200000-1771286399@silc.idaho.gov
SUMMARY:Presidents Day- Office Closed
DESCRIPTION:Our office is closed for Presidents Day.
URL:https://silc.idaho.gov/event/office-closed-2/
CATEGORIES:State or Federal Holiday
END:VEVENT
BEGIN:VEVENT
DTSTART;TZID=America/Boise:20260210T130000
DTEND;TZID=America/Boise:20260210T140000
DTSTAMP:20260423T234052
CREATED:20260126T154055Z
LAST-MODIFIED:20260126T160734Z
UID:12599-1770728400-1770732000@silc.idaho.gov
SUMMARY:SILC Policy Committee Meeting
DESCRIPTION:NOTICE OF MEETING \nSecond Tuesday of each month\n1:00 p.m. – 2:00 p.m. Mountain Time \n(12:00 p.m. to 1:00 p.m. Pacific Time)\nZOOM Meeting \nState Independent Living Council (SILC)\nSILC Policy Committee Meeting \nYou must register in advance for this meeting:\nhttps://us02web.zoom.us/meeting/register/haXGgdVWQVuXLv5-K0X2xg \nAfter registering\, you will receive a confirmation email containing information about joining the meeting. \nContact Janey Bruesch for more information:\n208-334-3800 \nIf you need accommodations\, including ASL or an alternate format\, please notify SILC at least 14 days in advance.  \n  \nSILC Policy Committee\nStanding Agenda\nSecond Tuesday of each Month\n1:00 p.m. – 2:00 p.m. Mountain Time\n12:00 p.m. – 1:00 p.m. Pacific Time\nZoom Meeting \n\nAgenda \n1. Welcome and Introductions \n\n2. Ongoing Policy work \n\n3. Other items \n\n4. Adjourn
URL:https://silc.idaho.gov/event/silc-policy-committee-meeting-5/
END:VEVENT
BEGIN:VEVENT
DTSTART;TZID=America/Boise:20260204T100000
DTEND;TZID=America/Boise:20260204T130000
DTSTAMP:20260423T234052
CREATED:20260130T175735Z
LAST-MODIFIED:20260130T175735Z
UID:12639-1770199200-1770210000@silc.idaho.gov
SUMMARY:Fred Riggers Disability Advocacy Day
DESCRIPTION:Fred Riggers Disability Advocacy Day  \nFebruary 4\, 2026 \nIdaho State Capitol First Floor Rotunda \n10:00 a.m. Proclamation Signing \n12:00 p.m. Awards Ceremony
URL:https://silc.idaho.gov/event/fred-riggers-disability-advocacy-day/
END:VEVENT
BEGIN:VEVENT
DTSTART;TZID=America/Boise:20260121T133000
DTEND;TZID=America/Boise:20260121T143000
DTSTAMP:20260423T234052
CREATED:20251218T183748Z
LAST-MODIFIED:20260126T162759Z
UID:12510-1769002200-1769005800@silc.idaho.gov
SUMMARY:Planning Committee Meeting
DESCRIPTION:Planning_Committee_Standing_Agenda \nNOTICE OF MEETING \n January 21\, 2026 \n1:30 p.m. – 2:30 p.m. Mountain Time  \n(12:30 p.m. – 1:30 p.m. Pacific Time) \nZOOM Meeting \nSILC Planning Committee Meeting \n You must register in advance for this meeting.  You must register at least 1 hour before the meeting begins to attend the meeting. \nhttps://us02web.zoom.us/meeting/register/Wy-nA8VTTfiXFvDNh2r0vg \nAfter registering\, you will receive a confirmation email containing information about joining the meeting. \nContact Janey Bruesch for more information: \n208-334-3800 \nIf you need accommodations\, including ASL or an alternate format\, please notify SILC at least 14 days in advance.
URL:https://silc.idaho.gov/event/planning-committee-meeting-4/
END:VEVENT
BEGIN:VEVENT
DTSTART;VALUE=DATE:20260119
DTEND;VALUE=DATE:20260120
DTSTAMP:20260423T234052
CREATED:20221116T195416Z
LAST-MODIFIED:20250918T180136Z
UID:8873-1768780800-1768867199@silc.idaho.gov
SUMMARY:Martin Luther King Day-SILC Office closed
DESCRIPTION:Office is closed in observance of Martin Luther King Day
URL:https://silc.idaho.gov/event/martin-luther-king-day-silc-office-closed/
CATEGORIES:State or Federal Holiday
END:VEVENT
BEGIN:VEVENT
DTSTART;TZID=America/Boise:20260116T100000
DTEND;TZID=America/Boise:20260116T130000
DTSTAMP:20260423T234052
CREATED:20251218T182547Z
LAST-MODIFIED:20251218T193852Z
UID:12506-1768557600-1768568400@silc.idaho.gov
SUMMARY:Council Meeting
DESCRIPTION:Council Meeting Agenda \nNOTICE OF MEETING \nFriday\, January 16\, 2026 \n10:00 A.M. – 1:00 P.M. Mountain Time (9:00 a.m. to 12:00 p.m. Pacific Time) \nSILC Council Meeting \nYou must register at least one hour prior to the meeting starting to attend this meeting: \n https://us02web.zoom.us/meeting/register/_cBKV6wUTfK34TmPMgaAzA \n After registering\, you will receive a confirmation email containing information about joining the meeting. \n Contact Janey Bruesch for more information: \n208-334-3800 \n If you need accommodations including ASL or an alternative format\, please contact the SILC at least 10 days in advance.
URL:https://silc.idaho.gov/event/council-meeting/
END:VEVENT
BEGIN:VEVENT
DTSTART;TZID=America/Boise:20260113T130000
DTEND;TZID=America/Boise:20260113T140000
DTSTAMP:20260423T234052
CREATED:20260105T203034Z
LAST-MODIFIED:20260105T204201Z
UID:12568-1768309200-1768312800@silc.idaho.gov
SUMMARY:Policy Committee Meeting
DESCRIPTION:Policy_Committee_Standing_Agenda \nNOTICE OF MEETING\nSecond Tuesday of each month\n1:00 p.m. – 2:00 p.m. Mountain Time\n(12:00 p.m. to 1:00 p.m. Pacific Time)\nZOOM Meeting\nState Independent Living Council (SILC)\nSILC Policy Committee Meeting \nYou must register in advance for this meeting:\nhttps://us02web.zoom.us/meeting/register/haXGgdVWQVuXLv5-K0X2xg \nAfter registering\, you will receive a confirmation email containing information about joining the meeting. \nContact Janey Bruesch for more information:  208-334-3800 or janey.bruesch@silc.idaho.gov\nIf you need accommodations\, including ASL or an alternate format\, please notify SILC at least 14 days in advance.
URL:https://silc.idaho.gov/event/policy-committee-meeting-2/
END:VEVENT
BEGIN:VEVENT
DTSTART;VALUE=DATE:20260101
DTEND;VALUE=DATE:20260102
DTSTAMP:20260423T234052
CREATED:20211104T190346Z
LAST-MODIFIED:20250918T180232Z
UID:6113-1767225600-1767311999@silc.idaho.gov
SUMMARY:Office Closed-New Years Day
DESCRIPTION:Our Office will be closed in observance of New Year’s Day. \n 
URL:https://silc.idaho.gov/event/office-closed-new-years-day/
CATEGORIES:State or Federal Holiday
END:VEVENT
BEGIN:VEVENT
DTSTART;VALUE=DATE:20251224
DTEND;VALUE=DATE:20251227
DTSTAMP:20260423T234052
CREATED:20211104T190129Z
LAST-MODIFIED:20251223T161350Z
UID:6110-1766534400-1766793599@silc.idaho.gov
SUMMARY:Office Closed-12/25-12/26 Christmas Eve through Day after Christmas
DESCRIPTION:Our Office will be closed in observance of Christmas Eve\, Christmas\, and the Day after Christmas per order of the Governor. \n 
URL:https://silc.idaho.gov/event/office-closed-christmas-day/
CATEGORIES:State or Federal Holiday
END:VEVENT
BEGIN:VEVENT
DTSTART;TZID=America/Boise:20251216T120000
DTEND;TZID=America/Boise:20251216T133000
DTSTAMP:20260423T234052
CREATED:20251002T220712Z
LAST-MODIFIED:20251002T220712Z
UID:12391-1765886400-1765891800@silc.idaho.gov
SUMMARY:Planning Committee Meeting
DESCRIPTION:State Independent Living Council (SILC)\nSILC Planning Committee Meeting\nTuesday\, December 16\, 2025\n12:00 p.m. – 1:30 p.m. Mountain Time\n(11:00 a.m. – 12:30 p.m. Pacific Time)\nZOOM Meeting \nStanding Agenda\n1. Welcome and Introductions\n2. Approve minutes from last meeting\n3. Quarterly Survey workgroup – updates and discussion\n4. Statewide Assessment workgroup – updates and discussion\n5. Determine dates for future meetings\n6. Adjourn \nYou must register in advance for this meeting. You must register at least 1 hour before the meeting begins to attend the meeting.\nhttps://us02web.zoom.us/meeting/register/M3kT9eCUQQ-L5HxZpEFkCw\nAfter registering\, you will receive a confirmation email containing information about joining the meeting.\nContact Janey Bruesch for more information:\n208-334-3800\nIf you need accommodations\, including ASL or an alternate format\, please notify SILC at least 10 days in advance.
URL:https://silc.idaho.gov/event/planning-committee-meeting-3/
LOCATION:Zoom
CATEGORIES:Public Meeting
END:VEVENT
BEGIN:VEVENT
DTSTART;TZID=America/Boise:20251216T110000
DTEND;TZID=America/Boise:20251216T120000
DTSTAMP:20260423T234052
CREATED:20250627T205528Z
LAST-MODIFIED:20251002T215922Z
UID:12273-1765882800-1765886400@silc.idaho.gov
SUMMARY:SILC Membership and Outreach Committee
DESCRIPTION:SILC Membership and Outreach Committee\nStanding Agenda\n11:00 a.m. – 12:00 p.m. Mountain Time\n10:00 a.m. – 11:00 a.m. Pacific Time\nZoom Meeting \n  \nStanding Agenda\n1. Welcome and Introductions\n2. Open Positions (identified in State plan) \n\nRegion II\nAt Large\nRegion VI\n\n3. Review applications for upcoming and/or current positions open\n4. Outreach\n5. Meeting dates going forward: \n\nDecember 16\, 2025\nMarch 24\, 2026\nJune 23\, 2026\n\n6. Other Business\n7. Adjourn \nYou must register in advance for this meeting\, at least 1 hour prior to the start of the meeting.\nhttps://us02web.zoom.us/meeting/register/2iXl9IDqT7ixsO9_yd_zsg \nAfter registering\, you will receive a confirmation email containing information about joining the meeting \nContact Janey Bruesch for more information: 208-334-3800\nIf you need accommodations\, including ASL or an alternate format\, please notify SILC at least 10 days in advance.
URL:https://silc.idaho.gov/event/silc-membership-and-outreach-committee/
LOCATION:Zoom
CATEGORIES:Public Meeting
END:VEVENT
BEGIN:VEVENT
DTSTART;TZID=America/Boise:20251209T130000
DTEND;TZID=America/Boise:20251209T140000
DTSTAMP:20260423T234052
CREATED:20251107T200502Z
LAST-MODIFIED:20251209T174928Z
UID:12457-1765285200-1765288800@silc.idaho.gov
SUMMARY:CANCELLED - SILC Policy Committee Meeting
DESCRIPTION:1_Dec_2025_Policy Commitee Public Meeting Notice \n1_Policy_Committee_Standing_Agenda
URL:https://silc.idaho.gov/event/silc-policy-committee-meeting-4/
END:VEVENT
BEGIN:VEVENT
DTSTART;VALUE=DATE:20251128
DTEND;VALUE=DATE:20251129
DTSTAMP:20260423T234052
CREATED:20231220T190920Z
LAST-MODIFIED:20241223T221215Z
UID:10750-1764288000-1764374399@silc.idaho.gov
SUMMARY:Thanksgiving-SILC Office closed
DESCRIPTION:Our office is closed in observance of Thanksgiving.
URL:https://silc.idaho.gov/event/thanksgiving-silc-office-closed/
CATEGORIES:State or Federal Holiday
END:VEVENT
BEGIN:VEVENT
DTSTART;TZID=America/Boise:20251111T080000
DTEND;TZID=America/Boise:20251111T170000
DTSTAMP:20260423T234052
CREATED:20221116T195958Z
LAST-MODIFIED:20241223T222123Z
UID:8881-1762848000-1762880400@silc.idaho.gov
SUMMARY:Veterans Day-SILC Office closed
DESCRIPTION:Our office will be closed in observance of Veterans Day.
URL:https://silc.idaho.gov/event/veterans-day-silc-office-closed/
CATEGORIES:State or Federal Holiday
END:VEVENT
BEGIN:VEVENT
DTSTART;TZID=America/Boise:20251024T090000
DTEND;TZID=America/Boise:20251024T163000
DTSTAMP:20260423T234052
CREATED:20210726T155846Z
LAST-MODIFIED:20251017T180931Z
UID:5503-1761296400-1761323400@silc.idaho.gov
SUMMARY:SILC Quarterly Business Meeting-Day 2
DESCRIPTION:State Independent Living Council (SILC)\nQuarterly Business Meeting\nOctober 23 & 24\, 2024 — 9:00 a.m. – 4:30 p.m. MDT\nASL will NOT be provided on Friday\, October 24th\, 2025 \nPhysical Location:\nHoliday Inn Express and Suites Boise Airport\n3050 S. Shoshone\, Boise\, ID 83705 \nOctober 23 & 24th Agenda
URL:https://silc.idaho.gov/event/silc-quarterly-business-meeting-day-2/
LOCATION:Holiday Inn Express\, 3050 S. Shoshone St.\, Boise\, ID\, 83704\, United States
CATEGORIES:Council Meeting,Public Meeting
END:VEVENT
BEGIN:VEVENT
DTSTART;TZID=America/Boise:20251023T090000
DTEND;TZID=America/Boise:20251023T163000
DTSTAMP:20260423T234052
CREATED:20210726T155748Z
LAST-MODIFIED:20251017T180840Z
UID:5501-1761210000-1761237000@silc.idaho.gov
SUMMARY:SILC Quarterly Business Meeting-Day 1
DESCRIPTION:State Independent Living Council (SILC)\nQuarterly Business Meeting\nOctober 23 & 24\, 2025 — 9:00 a.m. – 4:30 p.m. MDT \nASL Will NOT be provided on Friday October 24\, 2025 \nPhysical Location:\nHoliday Inn Express and Suites Boise Airport\n3050 S. Shoshone\, Boise\, ID 83705 \nOctober 23 & 24th Meeting Agenda \n 
URL:https://silc.idaho.gov/event/silc-quarterly-business-meeting-day-1/
LOCATION:Holiday Inn Express\, 3050 S. Shoshone St.\, Boise\, ID\, 83704\, United States
CATEGORIES:Council Meeting,Public Meeting
END:VEVENT
BEGIN:VEVENT
DTSTART;TZID=America/Boise:20251013T080000
DTEND;TZID=America/Boise:20251013T170000
DTSTAMP:20260423T234052
CREATED:20221116T195855Z
LAST-MODIFIED:20241223T222017Z
UID:8879-1760342400-1760374800@silc.idaho.gov
SUMMARY:Columbus Day-SILC Office closed
DESCRIPTION:Our offices are closed in observance of Columbus Day.
URL:https://silc.idaho.gov/event/columbus-day-silc-office-closed/
CATEGORIES:State or Federal Holiday
END:VEVENT
BEGIN:VEVENT
DTSTART;TZID=America/Boise:20250926T120000
DTEND;TZID=America/Boise:20250926T133000
DTSTAMP:20260423T234052
CREATED:20250918T175124Z
LAST-MODIFIED:20250925T163602Z
UID:12371-1758888000-1758893400@silc.idaho.gov
SUMMARY:SILC Planning Committee Meeting
DESCRIPTION:State Independent Living Council (SILC) Planning Committee\nStanding Agenda\n12:00 – 1:30 p.m. Mountain Time\n11:00 – 12:30 p.m. Pacific Time\nZoom Meeting\n\nAgenda\n1. Welcome and Introductions\n2. Quarterly Survey workgroup – updates and discussion\n3. Statewide Assessment workgroup – updates and discussion\n4. Determine dates for future meetings\n5. Adjourn\nYou must register in advance for this meeting. You must register at least 1 hour before the meeting begins to attend the meeting.\nhttps://us02web.zoom.us/meeting/register/2hORMzGIRvuHT6Y8_0sxmg\nAfter registering\, you will receive a confirmation email containing information about joining the meeting. \nContact Janey Bruesch for more information:\n208-334-3800\nIf you need accommodations\, including ASL or an alternate format\, please notify SILC at least 10 days in advance.
URL:https://silc.idaho.gov/event/silc-planning-committee-meeting/
LOCATION:Zoom
CATEGORIES:Public Meeting
END:VEVENT
BEGIN:VEVENT
DTSTART;TZID=America/Boise:20250923T110000
DTEND;TZID=America/Boise:20250923T120000
DTSTAMP:20260423T234052
CREATED:20220429T182750Z
LAST-MODIFIED:20250709T174803Z
UID:7730-1758625200-1758628800@silc.idaho.gov
SUMMARY:SILC Membership & Outreach Committee Meeting
DESCRIPTION:SILC Membership and Outreach Committee\nStanding Agenda\n11:00 a.m. – 12:00 p.m. Mountain Time\n10:00 a.m. – 11:00 a.m. Pacific Time\nZoom Meeting \n  \nStanding Agenda\n1. Welcome and Introductions\n2. Open Positions (identified in State plan) \n\nRegion II\nAt Large\nRegion VI\n\n3. Review applications for upcoming and/or current positions open\n4. Outreach\n5. Meeting dates going forward: \nYou must register in advance for this meeting: \nhttps://us02web.zoom.us/meeting/register/OUQCjBMvRBKv8rfhPh59AA \nAfter registering\, you will receive a confirmation email containing information about joining the meeting. \n\nSeptember 23\, 2025   \nDecember 16\, 2025\nMarch 24\, 2026\nJune 23\, 2026\n\n6. Other Business\n7. Adjourn
URL:https://silc.idaho.gov/event/membership-committee-meeting-2022-06-09/
LOCATION:Zoom
CATEGORIES:Council Meeting,Public Meeting
END:VEVENT
BEGIN:VEVENT
DTSTART;TZID=America/Boise:20250912T120000
DTEND;TZID=America/Boise:20250912T133000
DTSTAMP:20260423T234052
CREATED:20250627T210025Z
LAST-MODIFIED:20250905T191212Z
UID:12280-1757678400-1757683800@silc.idaho.gov
SUMMARY:Executive Committee Meeting
DESCRIPTION:NOTICE OF MEETING\nFRIDAY\nSeptember 12\, 2025\n12:00 P.M. – 1:30 P.M. Mountain Time (11:00 a.m. to 12:30 p.m. Pacific Time) \nZoom Captioning Provided\nZOOM MEETING \nState Independent Living Council (SILC)\nSILC Executive Committee Meeting \nYou must register in advance for this meeting: \nhttps://us02web.zoom.us/meeting/register/sCmMeQqnSTef59VvHyoAHg \nAfter registering\, you will receive a confirmation email containing information about joining the meeting. \nContact Janey Bruesch for more information: 208-334-3800\nIf you need accommodations\, including ASL or an alternate format\, please notify SILC at least 10 days in advance \nAgenda \n 
URL:https://silc.idaho.gov/event/12280/
END:VEVENT
BEGIN:VEVENT
DTSTART;TZID=America/Boise:20250909T130000
DTEND;TZID=America/Boise:20250909T140000
DTSTAMP:20260423T234052
CREATED:20250630T162126Z
LAST-MODIFIED:20250709T180823Z
UID:12292-1757422800-1757426400@silc.idaho.gov
SUMMARY:SILC Policy Committee Meeting
DESCRIPTION:Agenda \nYou must register in advance for this meeting: \nhttps://us02web.zoom.us/meeting/register/ATkaK7EKRRGL_x-BoOf2OQ \nAfter registering\, you will receive a confirmation email containing information about joining the meeting. \n\nWelcome and Introductions\nOngoing Policy work\nOther items\nAdjourn
URL:https://silc.idaho.gov/event/silc-policy-committee-meeting-3/
LOCATION:Zoom
END:VEVENT
BEGIN:VEVENT
DTSTART;TZID=America/Boise:20250806T140000
DTEND;TZID=America/Boise:20250806T153000
DTSTAMP:20260423T234052
CREATED:20250709T175615Z
LAST-MODIFIED:20250709T181454Z
UID:12305-1754488800-1754494200@silc.idaho.gov
SUMMARY:SILC Planning Committee Meeting
DESCRIPTION:SILC Planning Committee \nStanding Agenda \n2:00 – 3:30 p.m. Mountain Time \n1:00 – 2:30 p.m. Pacific Time \nZoom Meeting \nYou must register in advance for this meeting: \nhttps://us02web.zoom.us/meeting/register/JI93f-fUR76GyONlAVcEEg \nAfter registering\, you will receive a confirmation email containing information about joining the meeting. \n  \nAgenda \n  \n\nWelcome and Introductions\n\n  \n\nQuarterly Survey workgroup\n\n  \n\nStatewide Assessment workgroup\n\nHow can we use the quarterly surveys and other information from the CILs to “take the pulse” of the issues impacting people with disabilities throughout the SPIL cycle?\n\nBrainstorming\nNumber of community meetings – We had more than 25 last time. Would 3-4 be enough coupled with ongoing local information gathering activities?\n\n\n\n\n\n\nDetermine dates for future meetings\n\n  \n\nAdjourn
URL:https://silc.idaho.gov/event/planning-committee-meeting-2/
LOCATION:Zoom
END:VEVENT
END:VCALENDAR