BEGIN:VCALENDAR
VERSION:2.0
PRODID:-//State Independent Living Council - ECPv6.15.17//NONSGML v1.0//EN
CALSCALE:GREGORIAN
METHOD:PUBLISH
X-WR-CALNAME:State Independent Living Council
X-ORIGINAL-URL:https://silc.idaho.gov
X-WR-CALDESC:Events for State Independent Living Council
REFRESH-INTERVAL;VALUE=DURATION:PT1H
X-Robots-Tag:noindex
X-PUBLISHED-TTL:PT1H
BEGIN:VTIMEZONE
TZID:America/Boise
BEGIN:DAYLIGHT
TZOFFSETFROM:-0700
TZOFFSETTO:-0600
TZNAME:MDT
DTSTART:20230312T090000
END:DAYLIGHT
BEGIN:STANDARD
TZOFFSETFROM:-0600
TZOFFSETTO:-0700
TZNAME:MST
DTSTART:20231105T080000
END:STANDARD
BEGIN:DAYLIGHT
TZOFFSETFROM:-0700
TZOFFSETTO:-0600
TZNAME:MDT
DTSTART:20240310T090000
END:DAYLIGHT
BEGIN:STANDARD
TZOFFSETFROM:-0600
TZOFFSETTO:-0700
TZNAME:MST
DTSTART:20241103T080000
END:STANDARD
BEGIN:DAYLIGHT
TZOFFSETFROM:-0700
TZOFFSETTO:-0600
TZNAME:MDT
DTSTART:20250309T090000
END:DAYLIGHT
BEGIN:STANDARD
TZOFFSETFROM:-0600
TZOFFSETTO:-0700
TZNAME:MST
DTSTART:20251102T080000
END:STANDARD
END:VTIMEZONE
BEGIN:VEVENT
DTSTART;TZID=America/Boise:20240917T180000
DTEND;TZID=America/Boise:20240917T193000
DTSTAMP:20260423T000144
CREATED:20240830T162935Z
LAST-MODIFIED:20240830T162935Z
UID:11711-1726596000-1726601400@silc.idaho.gov
SUMMARY:ABLE Idaho Neighborhood Conversation - Twin Falls
DESCRIPTION:Date: Tuesday\, September 17\, 2024\nTime: 6:00 p.m. – 7:30 p.m.\nLocation: Center for Independent Living\n417 Shoup Ave W\, Twin Falls\, ID 83301 \nABLE accounts are saving/investment accounts for people who are disabled or Deaf before age 26. The age will increase to 46 on January 1\, 2026. ABLE accounts provide the opportunity to save money and keep needed benefits. \nJoin the Idaho State Independent Living Council to learn about the ABLE savings program\, how it can benefit people with disabilities and our work with the Idaho State Treasurer’s Office on the establishment of an ABLE program for Idaho. \nTo request disability accommodations\, including ASL\, contact the SILC at least 10 days in advance.\nPhone: 208-334-3800\nEmail: jami.davis@silc.idaho.gov\nWebsite: silc.idaho.gov \n ABLE Idaho Neighborhood Conversation – Twin Falls – Flyer
URL:https://silc.idaho.gov/event/able-idaho-neighborhood-conversation-twin-falls/
LOCATION:Center for Independent Living\, 417 Shoup Ave. W.\, Twin Falls\, ID\, 83301\, United States
CATEGORIES:ABLE Workshop,Public Meeting
END:VEVENT
BEGIN:VEVENT
DTSTART;TZID=America/Boise:20240926T180000
DTEND;TZID=America/Boise:20240926T193000
DTSTAMP:20260423T000144
CREATED:20240830T164047Z
LAST-MODIFIED:20240830T164047Z
UID:11718-1727373600-1727379000@silc.idaho.gov
SUMMARY:ABLE Idaho Neighborhood Conversation - Meridian
DESCRIPTION:Thursday\, September 26\, 2024\nTime: 6:00 p.m. – 7:30 p.m.\nLocation: Meridian Library – Cherry Lane – Large Conference Room\n1326 W Cherry Lane\, Meridian\, Idaho 83642 \nABLE accounts are saving/investment accounts for people who are disabled or Deaf before age 26. The age will increase to 46 on January 1\, 2026. ABLE accounts provide the opportunity to save money and keep needed benefits. \nJoin the Idaho State Independent Living Council to learn about the ABLE savings program\, how it can benefit people with disabilities and our work with the Idaho State Treasurer’s Office on the establishment of an ABLE program for Idaho. \nASL will be provided and location is accessible \nABLE_Meridian_Community_Meeting_Flyer
URL:https://silc.idaho.gov/event/able-idaho-neighborhood-conversation-meridian/
LOCATION:Meridian Library – Cherry Lane – Large Conference Room\, 1326 W Cherry Lane\, Meridian\, ID\, 83642\, United States
CATEGORIES:ABLE Workshop,Public Meeting
END:VEVENT
END:VCALENDAR