﻿BEGIN:VCALENDAR
VERSION:2.0
PRODID:-//State Independent Living Council - ECPv5.3.2.1//NONSGML v1.0//EN
CALSCALE:GREGORIAN
METHOD:PUBLISH
X-WR-CALNAME:State Independent Living Council
X-ORIGINAL-URL:https://silc.idaho.gov
X-WR-CALDESC:Events for State Independent Living Council
BEGIN:VTIMEZONE
TZID:America/Boise
BEGIN:DAYLIGHT
TZOFFSETFROM:-0700
TZOFFSETTO:-0600
TZNAME:MDT
DTSTART:20210314T090000
END:DAYLIGHT
BEGIN:STANDARD
TZOFFSETFROM:-0600
TZOFFSETTO:-0700
TZNAME:MST
DTSTART:20211107T080000
END:STANDARD
END:VTIMEZONE
BEGIN:VEVENT
DTSTART;VALUE=DATE:20210215
DTEND;VALUE=DATE:20210216
DTSTAMP:20210426T005520
CREATED:20201215T155744Z
LAST-MODIFIED:20210210T231557Z
UID:4359-1613347200-1613433599@silc.idaho.gov
SUMMARY:Presidents Day- Office Closed
DESCRIPTION:Our office is closed for Presidents Day.
URL:https://silc.idaho.gov/event/office-closed-2/
END:VEVENT
END:VCALENDAR